BEGIN:VCALENDAR
VERSION:2.0
PRODID:-//ChamberMaster//Event Calendar 2.0//EN
METHOD:PUBLISH
X-PUBLISHED-TTL:P3D
REFRESH-INTERVAL:P3D
CALSCALE:GREGORIAN
BEGIN:VEVENT
DTSTART:20100415T140000Z
DTEND:20100415T150000Z
X-MICROSOFT-CDO-ALLDAYEVENT:FALSE
SUMMARY:Windows 7 Seminar
DESCRIPTION:Join  us for a quick firsthand look at Windows 7:  Doing the tasks you do every day are easier and faster with Windows 7.  You can share files and devices easily\, find the information you need\,  stay productive anywhere and protect your data so you can spend more  time helping your business grow. \nA one-hour seminar with Continental Breakfast provided by Whole Foods Market.
X-ALT-DESC;FMTTYPE=text/html:<div><span style="font-family: Arial\;"><span style="font-size: 11px\; font-weight: normal\; line-height: 1.5em\; color: rgb(0\, 0\, 0)\;">Join  us for a quick firsthand look at Windows 7:  Doing the tasks you do every day are easier and faster with Windows 7.  You can share files and devices easily\, find the information you need\,  stay productive anywhere and protect your data so you can spend more  time helping your business grow. <br /></span></span></div><div><span style="font-family: Arial\;"><span style="font-size: 11px\; font-weight: normal\; line-height: 1.5em\; color: rgb(0\, 0\, 0)\;">A one-hour seminar with Continental Breakfast provided by Whole Foods Market.</span></span></div>
LOCATION:Daniels Fund Building\,101 Monroe StDenver\, CO
UID:e.281.414
SEQUENCE:3
DTSTAMP:20260420T011933Z
URL:http://chambermaster.cherrycreekchamber.org/events/details/windows-7-seminar-04-15-2010-414
END:VEVENT

END:VCALENDAR
