BEGIN:VCALENDAR
VERSION:2.0
PRODID:-//ChamberMaster//Event Calendar 2.0//EN
METHOD:PUBLISH
X-PUBLISHED-TTL:P3D
REFRESH-INTERVAL:P3D
CALSCALE:GREGORIAN
BEGIN:VEVENT
DTSTART:20120618T173000Z
DTEND:20120618T190000Z
X-MICROSOFT-CDO-ALLDAYEVENT:FALSE
SUMMARY:WOCC Special Event at the Denver Botanic Gardens
DESCRIPTION:Women of Cherry Creek present a special luncheon at the Denver Botanic Gardens
X-ALT-DESC;FMTTYPE=text/html:<div>\n	Women of Cherry Creek present a special luncheon at the Denver Botanic Gardens</div>\n
LOCATION:1006 York Street Denver\, CO 80206
UID:e.281.653
SEQUENCE:3
DTSTAMP:20260420T084638Z
URL:http://chambermaster.cherrycreekchamber.org/events/details/wocc-special-event-at-the-denver-botanic-gardens-06-18-2012-653
END:VEVENT

END:VCALENDAR
