BEGIN:VCALENDAR
VERSION:2.0
PRODID:-//ChamberMaster//Event Calendar 2.0//EN
METHOD:PUBLISH
X-PUBLISHED-TTL:P3D
REFRESH-INTERVAL:P3D
CALSCALE:GREGORIAN
BEGIN:VEVENT
DTSTART:20100112T183000Z
DTEND:20100112T200000Z
X-MICROSOFT-CDO-ALLDAYEVENT:FALSE
SUMMARY:Women of Cherry Creek
DESCRIPTION:Tired of Making New Year's Resolutions Without Results? Learn How to Turn Resolutions into Results! At the beginning of a New Year most of us have intentions to make this year better than the previous. We plan to start the New Year doing things differently\, but soon fall into the same behavior and actions that have gotten us the same results we have been getting for years. Why are some people more successful than others? There are strategies that will create sustained success for you. Dean will share with you the foundational success strategies he has learned from working with hundreds of successful businesses and business professionals that you can apply immediately making 2010 the year you get breakthrough results! You will learn:How to determine what success is for youHow to implement the top strategies of the most successful peopleHow to apply practical tools for immediate results Dean M. Savoca is a performance consultant partnering with individuals and organizations successfully revealing and capturing their highest potential. He provides performance improvement services including strategic planning\, sales trainings\, keynote speaking\, leadership development\, performance management and executive & sales coaching. Dean holds a Master's Degree in Organizational Performance & Change and is certified in Emotional Intelligence and Appreciative Inquiry. He is a graduate of Advanced Coaching Skills Training with Anthony Robbins Companies and partners with the company as a Results Coach.
X-ALT-DESC;FMTTYPE=text/html:<div><font face="Verdana" size="2"><font size="2"><font size="2"><span><font color="#800000" size="2"><font color="#000000" size="4"><p style="text-align: left"><span style="font-size: small"><strong>Tired of Making New Year&rsquo\;s Resolutions Without Results? </strong></span></p><div style="text-align: left"><span style="font-size: small">Learn How to Turn Resolutions into Results! At the beginning of a New Year most of us have intentions to make this year better than the previous. We plan to start the New Year doing things differently\, but soon fall into the same behavior and actions that have gotten us the same results we have been getting for years. Why are some people more successful than others? There are strategies that will create sustained success for you. Dean will share with you the foundational success strategies he has learned from working with hundreds of successful businesses and business professionals that you can apply immediately making 2010 the year you get breakthrough results!</span></div><div style="text-align: left"><span style="font-size: small">&nbsp\;</span></div><div style="text-align: left"><span style="font-size: small">You will learn:</span></div><ul><li style="text-align: left"><span style="font-size: small">How to determine what success is for you</span></li><li style="text-align: left"><span style="font-size: small">How to implement the top strategies of the most successful people</span></li><li style="text-align: left"><span style="font-size: small">How to apply practical tools for immediate results </span></li></ul><div style="text-align: left"><span style="font-size: small">Dean M. Savoca is a performance consultant partnering with individuals and organizations successfully revealing and capturing their highest potential. He provides performance improvement services including strategic planning\, sales trainings\, keynote speaking\, leadership development\, performance management and executive &amp\; sales coaching. Dean holds a Master&rsquo\;s Degree in Organizational Performance &amp\; Change and is certified in Emotional Intelligence and Appreciative Inquiry. He is a graduate of Advanced Coaching Skills Training with Anthony Robbins Companies and partners with the company as a Results Coach.&nbsp\;</span><br />&nbsp\;</div></font></font></span></font></font></font></div><div>&nbsp\;</div>
LOCATION:Brio Tuscan Grill2500 East 1st Ave.
UID:e.281.394
SEQUENCE:3
DTSTAMP:20260420T061352Z
URL:http://chambermaster.cherrycreekchamber.org/events/details/women-of-cherry-creek-01-12-2010-394
END:VEVENT

END:VCALENDAR
