BEGIN:VCALENDAR
VERSION:2.0
PRODID:-//ChamberMaster//Event Calendar 2.0//EN
METHOD:PUBLISH
X-PUBLISHED-TTL:P3D
REFRESH-INTERVAL:P3D
CALSCALE:GREGORIAN
BEGIN:VEVENT
DTSTART:20100310T183000Z
DTEND:20100310T200000Z
X-MICROSOFT-CDO-ALLDAYEVENT:FALSE
SUMMARY:Women of Cherry Creek
DESCRIPTION:Women as Leaders\, Women as Healers"Women as Leaders\, Women as Healers" focuses on the power women bring to the world when they recognize\, honor\, and express the gifts that are inherent in feminine energy. In many ancient cultures women were revered as healers and spiritual advisors\, acknowledged as carriers of many gifts that are essential to the well-being of any culture. Those roles haven't changed\, and women are now being called to step forward in new and deeper ways to bring balance\, healing\, and resolution to the many issues across the planet that will never be healed or resolved through political action or military force. This presentation assists participants to recognize who they truly are and the part they are called to play in helping to re-establish balance and an ever deepening sense of possibility in society. In this presentation you will learn: How to recognize and implement the 3 feminine gifts you carry naturally(hint: it has nothing to do with being sexy\, manipulative\, or cute)The impact of the feminine and its place in the practice of leadership Why the gifts of the feminine are essential to an organization's success How you can make a greater difference through successfully accessing your personal power\, your wisdom\, and your sensory acuity How you can use the language differences between men and women to moveyour organization toward successful outcomes The 3 most important archetypes for women to embody as they move through their lives  Best-selling author Susan Schachterle is committed to assisting individuals\, groups\, and organizations to find and successfully implement their inherent power\, wisdom\, effectiveness\, and joy. Her work as a coach and speaker takes her all over the US and across Europe and Asia. Her books are available all over the world\, and her articles have been published in a wide range of magazines.
X-ALT-DESC;FMTTYPE=text/html:<div><font face="Verdana" size="2"><font size="2"><font size="2"><span><font color="#800000" size="2"><font color="#000000" size="4"><p style="text-align: left"><span style="font-size: x-small"><span style=""><b>Women as Leaders\, Women as Healers</b></span></span></p><div style="margin: 0in 0in 0pt\; text-align: left" align="center"><span style="font-size: x-small">&ldquo\;Women as Leaders\, Women as Healers&rdquo\; focuses on the power women bring to the world when they recognize\, honor\, and express the gifts that are inherent in feminine energy.&nbsp\;In many ancient cultures women were revered as healers and spiritual advisors\, acknowledged as carriers of many gifts that are essential to the well-being of any culture.&nbsp\;Those roles haven&rsquo\;t changed\, and women are now being called to step forward in new and deeper ways to bring balance\, healing\, and resolution to the many issues across the planet that will never be healed or resolved through political action or military force.&nbsp\;This presentation assists participants to recognize who they truly are and the part they are called to play in helping to re-establish balance and an ever deepening sense of possibility in society.&nbsp\;In this presentation you will learn:</span></div><div style="margin: 0in 0in 0pt\; text-align: left"><span style="font-size: x-small">&nbsp\;</span></div><div style="text-align: left"><ul><li><span style="font-size: x-small">How to recognize and implement the 3 feminine gifts you carry naturally</span></li></ul></div><div><span style="font-size: x-small">(hint: it has nothing to do with being sexy\, manipulative\, or cute)</span></div><ul><li><span style="font-size: x-small">The impact of the feminine and its place in the practice of leadership&nbsp\;</span></li><li><span style="font-size: x-small">Why the gifts of the feminine are essential to an organization&rsquo\;s success&nbsp\;</span></li><li><span style="font-size: x-small">How you can make a greater difference through successfully accessing your personal power\, your wisdom\, and your sensory acuity&nbsp\;</span></li><li><span style="font-size: x-small">How you can use the language differences between men and women to move</span></li><li><span style="font-size: x-small">your organization toward successful outcomes&nbsp\;</span></li><li><span style="font-size: x-small">The 3 most important archetypes for women to embody as they move through their lives&nbsp\;&nbsp\;</span></li></ul><div><span style="font-size: x-small"><div style="margin: 0in 0in 0pt">Best-selling author Susan Schachterle is committed to assisting individuals\, groups\, and organizations to find and successfully implement their inherent power\, wisdom\, effectiveness\, and joy.&nbsp\;Her work as a coach and speaker takes her all over the US and across Europe and Asia.&nbsp\;Her books are available all over the world\, and her articles have been published in a wide range of magazines.</div></span><span style="font-size: small"><div style="margin: 0in 0in 0pt">&nbsp\;</div></span><span><div style="margin: 0in 0in 0pt"><span id="1266244107751E" style="display: none">&nbsp\;</span></div>&nbsp\;&nbsp\;&nbsp\;&nbsp\;&nbsp\;&nbsp\;&nbsp\;&nbsp\;&nbsp\;</span></div><div style="margin: 0in 0in 0pt">&nbsp\;</div><div style="margin: 0in 0in 0pt">&nbsp\;</div></font></font></span></font></font></font></div><div>&nbsp\;</div>
LOCATION:Brio Tuscan Grill2500 East 1st Ave.
UID:e.281.403
SEQUENCE:3
DTSTAMP:20260420T025040Z
URL:http://chambermaster.cherrycreekchamber.org/events/details/women-of-cherry-creek-03-10-2010-403
END:VEVENT

END:VCALENDAR
