BEGIN:VCALENDAR
VERSION:2.0
PRODID:-//ChamberMaster//Event Calendar 2.0//EN
METHOD:PUBLISH
X-PUBLISHED-TTL:P3D
REFRESH-INTERVAL:P3D
CALSCALE:GREGORIAN
BEGIN:VEVENT
DTSTART:20100511T133000Z
DTEND:20100511T150000Z
X-MICROSOFT-CDO-ALLDAYEVENT:FALSE
SUMMARY:Women of Cherry Creek
DESCRIPTION:Finding your Inner SwanWe are all capable of being:Smart Worthwhile Attractive and (just a little bit) Naughty The majority of us have had times in our lives (possibly even now) where we have felt inadequate.Diana will give us the tools to understand what we are capable of\, so that we can bring the best of ourselves (our inner SWAN) with us wherever we go   whether at work\, home or just by ourselves.
X-ALT-DESC;FMTTYPE=text/html:<div><font face="Verdana" size="2"><font size="2"><font size="2"><span><font color="#800000" size="2"><font color="#000000" size="4"><div style="text-align: left"><p align="left"><span style="font-size: small"><strong><font color="#000000">Finding your Inner Swan</font></strong></span></p><p align="left"><span style="font-size: x-small"><font color="#000000">We are all capable of being:</font></span></p><ul><li><span style="font-size: x-small"><font color="#000000"><strong>S</strong>mart</font> </span></li><li><span style="font-size: x-small"><font color="#000000"><strong>W</strong>orthwhile</font> </span></li><li><span style="font-size: x-small"><font color="#000000"><strong>A</strong>ttractive and (just a little bit) </font></span></li><li><span style="font-size: x-small"><font color="#000000"><strong>N</strong>aughty</font> </span></li></ul><p><span style="font-size: x-small"><font color="#000000">The majority of us have had times in our lives (possibly even now) where we have felt inadequate.</font></span></p><p><span style="font-size: x-small"><font color="#000000">Diana will give us the tools to understand what we are capable of\, so that we can bring the best of ourselves (our inner SWAN) with us wherever we go &ndash\; whether at work\, home or just by ourselves.</font></span><span style="font-size: x-small"><font color="#000000"><br /></font></span></p></div></font></font></span></font></font></font></div>
LOCATION:TOAST222 Columbine Street Denver\, CO 80206
UID:e.281.411
SEQUENCE:3
DTSTAMP:20260420T000537Z
URL:http://chambermaster.cherrycreekchamber.org/events/details/women-of-cherry-creek-05-11-2010-411
END:VEVENT

END:VCALENDAR
