BEGIN:VCALENDAR
VERSION:2.0
PRODID:-//ChamberMaster//Event Calendar 2.0//EN
METHOD:PUBLISH
X-PUBLISHED-TTL:P3D
REFRESH-INTERVAL:P3D
CALSCALE:GREGORIAN
BEGIN:VEVENT
DTSTART:20090617T173000Z
DTEND:20090617T190000Z
X-MICROSOFT-CDO-ALLDAYEVENT:FALSE
SUMMARY:Women of Cherry Creek
DESCRIPTION:Dollar-Wise Solutions to Rejuvenate and Refresh Your SpaceIs your home or office lifeless and outdated? Do you feel stuck in a tired house with boring beige walls and lackluster interiors? And you're not ready to throw out everything and start over. Would it be nice to come home to an exciting space or to work in an invigorating environment? 1        Learn innovative\, inexpensive design solutions to update your home or office2        Add color to your life! (Learn foolproof ways of choosing the right paint colors for you)3        Discover your personal style4        Uncover the secrets to choosing the right designer for you. Join this down-to-earth session and learn tips to rejuvenate every room in your house. Even take away ideas for energizing your office. Take home a resource list for bargains in finishes and accessories Ms. Halaska has 30 years of experience in the field of interior design. She received a B.A. in Interior Design from the Interior Design Institute\, a F.I.D.E.R. accredited school. She has been Director of Design at two major architectural firms and worked with A/E firms for over twenty years both in Denver and Arizona before starting her own company in 2002. Christine specializes in both residential and commercial design . Her wide range of experience includes one room remodels to an 8\,300 square foot custom home. In the commercial arena\, her projects encompass offices\, healthcare facilities\, credit unions/banks\, senior living facilities\, etc. Ms. Halaska describes herself as a down-to-earth designer who operates in the real world and understands that every client is on a budget.
X-ALT-DESC;FMTTYPE=text/html:<div><font face="Verdana" size="2"><font size="2"><font size="2"><span><font color="#800000" size="2"><font color="#000000"><p style="margin: 0in 0in 6pt"><font size="1"><font face="Arial"><strong>&nbsp\;<strong><font size="3">Dollar-Wise Solutions to Rejuvenate and Refresh Your Space</font></strong></strong></font></font></p><p align="left"><font size="1">Is your home or office lifeless and outdated? Do you feel stuck in a tired house with boring beige walls and lackluster interiors? And you&rsquo\;re not ready to throw out everything and start over. Would it be nice to come home to an exciting space or to work in an invigorating environment?</font></p><div style="margin: 0in 0in 0pt" align="left"><font size="1">&nbsp\;</font></div><div style="margin: 0in 0in 0pt 0.5in\; text-indent: -0.25in" align="left"><font size="1">1<span style="font: 7pt &rsquo\;Times New Roman&rsquo\;">&nbsp\;&nbsp\;&nbsp\;&nbsp\;&nbsp\;&nbsp\;&nbsp\; </span>Learn innovative\, inexpensive design solutions to update your home or office</font></div><div style="margin: 0in 0in 0pt 0.5in\; text-indent: -0.25in" align="left"><font size="1">2<span style="font: 7pt &rsquo\;Times New Roman&rsquo\;">&nbsp\;&nbsp\;&nbsp\;&nbsp\;&nbsp\;&nbsp\;&nbsp\; </span>Add color to your life! (Learn foolproof ways of choosing the right paint colors for you)</font></div><div style="margin: 0in 0in 0pt 0.5in\; text-indent: -0.25in" align="left"><font size="1">3<span style="font: 7pt &rsquo\;Times New Roman&rsquo\;">&nbsp\;&nbsp\;&nbsp\;&nbsp\;&nbsp\;&nbsp\;&nbsp\; </span>Discover your personal style</font></div><div style="margin: 0in 0in 0pt 0.5in\; text-indent: -0.25in" align="left"><font size="1">4<span style="font: 7pt &rsquo\;Times New Roman&rsquo\;">&nbsp\;&nbsp\;&nbsp\;&nbsp\;&nbsp\;&nbsp\;&nbsp\; </span>Uncover the secrets to choosing the right designer for you.</font></div><div style="margin: 0in 0in 0pt" align="left"><font size="1">&nbsp\;</font></div><div style="margin: 0in 0in 0pt" align="left"><font size="1">Join this down-to-earth session and learn tips to rejuvenate every room in your house. Even take away ideas for energizing your office. Take home a resource list for bargains in finishes and accessories</font></div><div style="margin: 0in 0in 0pt" align="left"><font size="1">&nbsp\;</font></div><div style="margin: 0in 0in 0pt" align="left"><font size="1">Ms. Halaska has 30 years of experience in the field of interior design.&nbsp\;She received a B.A. in Interior Design from the Interior Design Institute\, a F.I.D.E.R. accredited school. She has been Director of Design at two major architectural firms and worked with A/E firms for over twenty years both in Denver and Arizona before starting her own company in 2002.</font></div><div style="margin: 0in 0in 0pt" align="left"><font size="1">&nbsp\;</font></div><div style="margin: 0in 0in 0pt" align="left"><font size="1">Christine specializes in both residential and commercial design . Her wide range of experience includes one room remodels to an 8\,300 square foot custom home. In the commercial arena\, her projects encompass offices\, healthcare facilities\, credit unions/banks\, senior living facilities\, etc.&nbsp\;Ms. Halaska describes herself as a down-to-earth designer who operates in the real world and understands that every client is on a budget.</font></div></font></font></span></font></font></font></div>
LOCATION:The Egg and I 560 S. Holly Street #1 Denver\, CO 80236
UID:e.281.363
SEQUENCE:3
DTSTAMP:20260420T161359Z
URL:http://chambermaster.cherrycreekchamber.org/events/details/women-of-cherry-creek-06-17-2009-363
END:VEVENT

END:VCALENDAR
