BEGIN:VCALENDAR
VERSION:2.0
PRODID:-//ChamberMaster//Event Calendar 2.0//EN
METHOD:PUBLISH
X-PUBLISHED-TTL:P3D
REFRESH-INTERVAL:P3D
CALSCALE:GREGORIAN
BEGIN:VEVENT
DTSTART:20100713T133000Z
DTEND:20100713T150000Z
X-MICROSOFT-CDO-ALLDAYEVENT:FALSE
SUMMARY:Women of Cherry Creek
DESCRIPTION:Dragon Slaying 101In many fairytales\, a dragon wreaks havoc throughout the realm until a brave knight battles it and subdues it. Discover your inner-knight and how to slay the dragons in your life step-by-step.
X-ALT-DESC;FMTTYPE=text/html:<div><font size="2" face="Verdana"><font size="2"><font size="2"><span><font color="#800000" size="2"><font color="#000000" size="4"><div style="text-align: left"><p align="left"><span style="font-size: x-small"><b>Dragon Slaying 101</b></span></p><p><span style="font-size: x-small">In many fairytales\, a dragon wreaks havoc throughout the realm until a brave knight battles it and subdues it. Discover your inner-knight and how to slay the dragons in your life step-by-step.</span></p></div></font></font></span></font></font></font></div>
LOCATION:TOAST222 Columbine Street Denver\, CO 80206
UID:e.281.428
SEQUENCE:3
DTSTAMP:20260419T210051Z
URL:http://chambermaster.cherrycreekchamber.org/events/details/women-of-cherry-creek-07-13-2010-428
END:VEVENT

END:VCALENDAR
