BEGIN:VCALENDAR
VERSION:2.0
PRODID:-//ChamberMaster//Event Calendar 2.0//EN
METHOD:PUBLISH
X-PUBLISHED-TTL:P3D
REFRESH-INTERVAL:P3D
CALSCALE:GREGORIAN
BEGIN:VEVENT
DTSTART:20090715T173000Z
DTEND:20090715T190000Z
X-MICROSOFT-CDO-ALLDAYEVENT:FALSE
SUMMARY:Women of Cherry Creek
DESCRIPTION:The Balancing Act: Strategies for Managing a Demanding Career - Lauren Still\n \nJuggling a challenging career or business\, self-care\, family and friends can sometimes leave you wondering if balance can be achieved or if it is just an illusion.  Join us for this discussion and sharing of perspectives on work-life balance\, and leave with your own personalized strategy to manage your life during different levels of stress at work.\n \nLauren Still (MBA\, CTACC) is a Denver native and the founder of Buoyant Life LLC\, a life and career coaching business (www.buoyantlife.com).  Her professional experience provides a depth and breadth of knowledge: she worked in technical writing and multimedia development before moving into human resources and general management in a family business\, and also worked for a global HR consulting firm in Singapore and Australia before returning to the U.S. and becoming an entrepreneur with her own business.\n \nLauren's credentials include a MBA from the University of Colorado's Executive Programs and a Bachelor's degree from Carleton College.  In addition\, she is a CTA certified coach\, a Career Consultant for REA Career Services\, an active board member of the Denver Coach Federation\, and a member of the Professional Association of Resume Writers / Career Coaches.
X-ALT-DESC;FMTTYPE=text/html:<div><font face="Verdana" size="2"><font size="2"><div><font size="2"><span><font color="#800000" size="2"><font color="#000000"><p style="margin: 0in 0in 6pt"><font size="1"><font face="Arial"><strong>&nbsp\;</strong><font face="Tahoma\,Arial\,sans-serif"><font size="2"><strong>The Balancing Act: Strategies for Managing a Demanding Career&nbsp\;- Lauren Still</strong><br /></font>&nbsp\;<br />Juggling a challenging career or business\, self-care\, family and friends can sometimes leave you wondering if balance can be achieved or if it is just an illusion. &nbsp\;Join us for this discussion and sharing of perspectives on work-life balance\, and leave with your own personalized strategy to manage your life during different levels of stress at work.<br />&nbsp\;<br />Lauren Still (MBA\, CTACC) is a Denver native and the founder of Buoyant Life LLC\, a life and career coaching business (www.buoyantlife.com). &nbsp\;Her&nbsp\;professional experience provides a depth and breadth of knowledge:&nbsp\;she worked in technical writing and multimedia development before moving into human resources and general management in a family business\, and also worked for a global HR consulting firm in Singapore and Australia before returning to the U.S. and becoming an entrepreneur with her own business.<br />&nbsp\;<br />Lauren&rsquo\;s credentials include a MBA from the University of Colorado&rsquo\;s Executive Programs and a Bachelor&rsquo\;s degree from Carleton College.&nbsp\; In addition\, she is a CTA certified coach\, a Career Consultant for REA Career Services\, an active board member of the Denver Coach Federation\, and a member of the Professional Association of Resume Writers / Career Coaches.<br /></font></font></font></p></font></font></span></font></div></font></font></div>
LOCATION:The Egg and I 560 S. Holly Street #1 Denver\, CO 80236
UID:e.281.364
SEQUENCE:3
DTSTAMP:20260420T144721Z
URL:http://chambermaster.cherrycreekchamber.org/events/details/women-of-cherry-creek-07-15-2009-364
END:VEVENT

END:VCALENDAR
