BEGIN:VCALENDAR
VERSION:2.0
PRODID:-//ChamberMaster//Event Calendar 2.0//EN
METHOD:PUBLISH
X-PUBLISHED-TTL:P3D
REFRESH-INTERVAL:P3D
CALSCALE:GREGORIAN
BEGIN:VEVENT
DTSTART:20100810T173000Z
DTEND:20100810T190000Z
X-MICROSOFT-CDO-ALLDAYEVENT:FALSE
SUMMARY:Women of Cherry Creek
DESCRIPTION:The Success Secrets of World-Class Athletes and Business Leaders with TC North
X-ALT-DESC;FMTTYPE=text/html:<div><font size="2" face="Verdana"><font size="2"><font size="2"><span><font color="#800000" size="2"><font color="#000000" size="4"><div style="text-align: left"><p align="left"><span style="font-size: x-small"><font color="#000000"><br /><strong>The Success Secrets of World-Class Athletes and Business Leaders</strong> with TC North</font></span></p></div></font></font></span></font></font></font></div>
LOCATION:TOAST222 Columbine Street Denver\, CO 80206
UID:e.281.430
SEQUENCE:3
DTSTAMP:20260419T191947Z
URL:http://chambermaster.cherrycreekchamber.org/events/details/women-of-cherry-creek-08-10-2010-430
END:VEVENT

END:VCALENDAR
