BEGIN:VCALENDAR
VERSION:2.0
PRODID:-//ChamberMaster//Event Calendar 2.0//EN
METHOD:PUBLISH
X-PUBLISHED-TTL:P3D
REFRESH-INTERVAL:P3D
CALSCALE:GREGORIAN
BEGIN:VEVENT
DTSTART:20090819T173000Z
DTEND:20090819T190000Z
X-MICROSOFT-CDO-ALLDAYEVENT:FALSE
SUMMARY:Women of Cherry Creek
DESCRIPTION:Confronting the Idiot at Work - T. J. SullivanThere's always one. The employee or coworker who drives everyone nuts. You can tolerate the madness\, or you can try to set up a successful confrontation. There are actual strategies you can use to increase your chances of success. In this practical session\, you will learn some of the basics that will help you enter a work confrontation confidently.
X-ALT-DESC;FMTTYPE=text/html:<div><font face="Verdana" size="2"><font size="2"><div><font size="2"><span><font color="#800000" size="2"><font color="#000000"><p style="margin: 0in 0in 6pt">&nbsp\;<span style="font-size: xx-small"><strong>Confronting the Idiot at Work - T. J. Sullivan</strong></span></p><p><span style="font-size: xx-small">There's always one. The employee or coworker who drives everyone nuts. You can tolerate the madness\, or you can try to set up a successful confrontation. There are actual strategies you can use to increase your chances of success. In this practical session\, you will learn some of the basics that will help you enter a work confrontation confidently.</span></p></font></font></span></font></div></font></font></div>
LOCATION:The Egg and I 560 S. Holly Street #1 Denver\, CO 80236
UID:e.281.369
SEQUENCE:3
DTSTAMP:20260420T133504Z
URL:http://chambermaster.cherrycreekchamber.org/events/details/women-of-cherry-creek-08-19-2009-369
END:VEVENT

END:VCALENDAR
