BEGIN:VCALENDAR
VERSION:2.0
PRODID:-//ChamberMaster//Event Calendar 2.0//EN
METHOD:PUBLISH
X-PUBLISHED-TTL:P3D
REFRESH-INTERVAL:P3D
CALSCALE:GREGORIAN
BEGIN:VEVENT
DTSTART:20100914T133000Z
DTEND:20100914T150000Z
X-MICROSOFT-CDO-ALLDAYEVENT:FALSE
SUMMARY:Women of Cherry Creek
DESCRIPTION:On August 1\, 1999\, Polly Letofsky left her home in Vail\, Colorado\, and headed west. She traveled across 4 continents\, 22 countries\, and over 14\,000 miles -- by foot -- to become the first woman to walk around the world.  As an awareness campagin for breast caner\, survivors and well-wishers around the world came out to walk with her.  Every day strangers welcomed her into their homes and shared meals.  Across four continents she had dinner conversations with poets\, politicians\, country singes\, olive growers\, pig farmers and the female bomb make in Australia.  The world had embraced her. To rapt audiences\, she richly details her journey with humou and honest challenge of a life-long dream and learned quickly how to adapt to a swiftly changing world and to always live on the edge of her comfort zone.
X-ALT-DESC;FMTTYPE=text/html:<div><font size="2" face="Verdana"><font size="2"><font size="2"><span><font color="#800000" size="2"><font color="#000000" size="4"><div style="text-align: left"><span style="font-size: x-small"><span style="font-size: x-small"><p><span style="color: #000000">On August 1\, 1999\, Polly Letofsky left her home in Vail\, Colorado\, and headed west. She traveled across 4 continents\, 22 countries\, and over 14\,000 miles -- by foot -- to become the first woman to walk around the world.<span id="1282235599632E" style="display: none">&nbsp\;</span><span id="1282235601660E" style="display: none">&nbsp\;</span></span></p><p><span style="color: #000000">As an awareness campagin for breast caner\, survivors and well-wishers around the world came out to walk with her.&nbsp\; Every day strangers welcomed her into their homes and shared meals.&nbsp\; Across four continents she had dinner conversations with poets\, politicians\, country singes\, olive growers\, pig farmers and the female bomb make in Australia.&nbsp\; The world had embraced her.&nbsp\;</span></p><p><span style="color: #000000">To rapt audiences\, she richly details her journey with humou and honest challenge of a life-long dream and learned quickly how to adapt to a swiftly changing world and to always live on the edge of her comfort zone.</span></p></span></span></div><p><span style="color: #000000">&nbsp\;</span></p></font></font></span></font></font></font></div>
LOCATION:TOAST222 Columbine Street Denver\, CO 80206
UID:e.281.434
SEQUENCE:3
DTSTAMP:20260419T174147Z
URL:http://chambermaster.cherrycreekchamber.org/events/details/women-of-cherry-creek-09-14-2010-434
END:VEVENT

END:VCALENDAR
