BEGIN:VCALENDAR
VERSION:2.0
PRODID:-//ChamberMaster//Event Calendar 2.0//EN
METHOD:PUBLISH
X-PUBLISHED-TTL:P3D
REFRESH-INTERVAL:P3D
CALSCALE:GREGORIAN
BEGIN:VEVENT
DTSTART:20090916T173000Z
DTEND:20090916T190000Z
X-MICROSOFT-CDO-ALLDAYEVENT:FALSE
SUMMARY:Women of Cherry Creek
DESCRIPTION:Build a Referral-Based Business\;  Network Your Contacts into Sales and Stop Leaving $$$ on the Table
X-ALT-DESC;FMTTYPE=text/html:<div><font face="Verdana" size="2"><font size="2"><div><font size="2"><span><font color="#800000" size="2"><font color="#000000"><p style="margin: 0in 0in 6pt"><span style="font-size: xx-small">Build a Referral-Based Business\;&nbsp\;&nbsp\;<font size="2">Network Your Contacts into Sales and Stop Leaving $$$ on the Table</font></span></p></font></font></span></font></div></font></font></div>
LOCATION:The Egg and I 560 S. Holly Street #1 Denver\, CO 80236
UID:e.281.376
SEQUENCE:3
DTSTAMP:20260420T120229Z
URL:http://chambermaster.cherrycreekchamber.org/events/details/women-of-cherry-creek-09-16-2009-376
END:VEVENT

END:VCALENDAR
