BEGIN:VCALENDAR
VERSION:2.0
PRODID:-//ChamberMaster//Event Calendar 2.0//EN
METHOD:PUBLISH
X-PUBLISHED-TTL:P3D
REFRESH-INTERVAL:P3D
CALSCALE:GREGORIAN
BEGIN:VEVENT
DTSTART:20091021T173000Z
DTEND:20091021T190000Z
X-MICROSOFT-CDO-ALLDAYEVENT:FALSE
SUMMARY:Women of Cherry Creek
DESCRIPTION:Are You and Your Business Resilient? Can You Survive Tough Economic Times?
X-ALT-DESC;FMTTYPE=text/html:<div>&nbsp\;</div><div><font face="Verdana" size="2"><font size="2"><div><font size="2"><span><font color="#800000" size="2"><font color="#000000" size="4"><p style="margin: 0in 0in 6pt"><span style="font-size: x-small"><span style="">Are You and Your Business Resilient? Can You Survive Tough Economic Times?</span></span></p></font></font></span></font></div></font></font></div>
LOCATION:The Egg and I 560 S. Holly Street #1 Denver\, CO 80236
UID:e.281.382
SEQUENCE:3
DTSTAMP:20260420T103258Z
URL:http://chambermaster.cherrycreekchamber.org/events/details/women-of-cherry-creek-10-21-2009-382
END:VEVENT

END:VCALENDAR
