BEGIN:VCALENDAR
VERSION:2.0
PRODID:-//ChamberMaster//Event Calendar 2.0//EN
METHOD:PUBLISH
X-PUBLISHED-TTL:P3D
REFRESH-INTERVAL:P3D
CALSCALE:GREGORIAN
BEGIN:VEVENT
DTSTART:20101103T173000Z
DTEND:20101103T190000Z
X-MICROSOFT-CDO-ALLDAYEVENT:FALSE
SUMMARY:Women of Cherry Creek
DESCRIPTION:Sharon Shores-Gibson will present - "The Slight Edge" Using it in Your Business and Personal Life\n		\n			Find out the tricks to getting "The Slight Edge" to improve your business. Here are some of the things you will learn in this informative and entertaining presentation:\n		\n			\n				How to finish 2010 with a positive Bang! And make 2011 a Stellar year!\n			\n				The definition of the Slight Edge and how to make this work for you\n			\n				4 challenges in applying the Slight Edge\n			\n				3 ways you can immediately apply the Slight Edge in Your Life and Business
X-ALT-DESC;FMTTYPE=text/html:<div>\n	<div style="text-align: left">\n		<p align="left">\n			<strong>Sharon Shores-Gibson will present - &ldquo\;The Slight Edge&rdquo\; Using it in Your Business and Personal Life</strong></p>\n		<p>\n			Find out the tricks to getting &quot\;The Slight Edge&quot\; to improve your business. Here are some of the things you will learn in this informative and entertaining presentation:</p>\n		<ul>\n			<li>\n				How to finish 2010 with a positive Bang! And make 2011 a Stellar year!</li>\n			<li>\n				The definition of the Slight Edge and how to make this work for you</li>\n			<li>\n				4 challenges in applying the Slight Edge</li>\n			<li>\n				3 ways you can immediately apply the Slight Edge in Your Life and Business<span _fck_bookmark="1" style="display: none">&nbsp\;</span></li>\n		</ul>\n	</div>\n</div>\n
LOCATION:TOAST222 Columbine Street Denver\, CO 80206
UID:e.281.444
SEQUENCE:3
DTSTAMP:20260419T143245Z
URL:http://chambermaster.cherrycreekchamber.org/events/details/women-of-cherry-creek-11-03-2010-444
END:VEVENT

END:VCALENDAR
